Package: tilingArray Version: 1.77.0 Command: /home/biocbuild/bbs-3.17-bioc/R/bin/R CMD build --keep-empty-dirs --no-resave-data tilingArray StartedAt: 2023-04-12 04:23:10 -0400 (Wed, 12 Apr 2023) EndedAt: 2023-04-12 04:23:47 -0400 (Wed, 12 Apr 2023) EllapsedTime: 37.1 seconds RetCode: 0 Status: OK PackageFile: tilingArray_1.77.0.tar.gz PackageFileSize: 3.124 MiB