Package: shinyMethyl Version: 1.35.7 Command: /home/biocbuild/bbs-3.17-bioc/R/bin/R CMD build --keep-empty-dirs --no-resave-data shinyMethyl StartedAt: 2023-04-12 04:10:49 -0400 (Wed, 12 Apr 2023) EndedAt: 2023-04-12 04:12:05 -0400 (Wed, 12 Apr 2023) EllapsedTime: 76.2 seconds RetCode: 0 Status: OK PackageFile: shinyMethyl_1.35.7.tar.gz PackageFileSize: 7.226 MiB