Package: seqCNA Version: 1.45.0 Command: /home/biocbuild/bbs-3.17-bioc/R/bin/R CMD INSTALL seqCNA StartedAt: 2023-04-12 01:33:26 -0400 (Wed, 12 Apr 2023) EndedAt: 2023-04-12 01:33:46 -0400 (Wed, 12 Apr 2023) EllapsedTime: 19.6 seconds RetCode: 0 Status: OK