Package: scPipe Version: 1.99.5 Command: /home/biocbuild/bbs-3.17-bioc/R/bin/R CMD INSTALL scPipe StartedAt: 2023-04-12 01:53:16 -0400 (Wed, 12 Apr 2023) EndedAt: 2023-04-12 01:56:46 -0400 (Wed, 12 Apr 2023) EllapsedTime: 209.6 seconds RetCode: 0 Status: OK