Package: scMET Version: 1.1.0 Command: /home/biocbuild/bbs-3.17-bioc/R/bin/R CMD INSTALL scMET StartedAt: 2023-04-12 01:50:16 -0400 (Wed, 12 Apr 2023) EndedAt: 2023-04-12 01:53:10 -0400 (Wed, 12 Apr 2023) EllapsedTime: 173.4 seconds RetCode: 0 Status: OK