Package: safe Version: 3.39.0 Command: /home/biocbuild/bbs-3.17-bioc/R/bin/R CMD build --keep-empty-dirs --no-resave-data safe StartedAt: 2023-04-12 04:02:08 -0400 (Wed, 12 Apr 2023) EndedAt: 2023-04-12 04:06:53 -0400 (Wed, 12 Apr 2023) EllapsedTime: 285.6 seconds RetCode: 0 Status: OK PackageFile: safe_3.39.0.tar.gz PackageFileSize: 511.4 KiB