Package: rtracklayer Version: 1.59.1 Command: /home/biocbuild/bbs-3.17-bioc/R/bin/R CMD INSTALL rtracklayer StartedAt: 2023-04-12 01:41:15 -0400 (Wed, 12 Apr 2023) EndedAt: 2023-04-12 01:42:36 -0400 (Wed, 12 Apr 2023) EllapsedTime: 80.8 seconds RetCode: 0 Status: OK