Package: rtracklayer Version: 1.59.1 Command: /home/biocbuild/bbs-3.17-bioc/R/bin/R CMD build --keep-empty-dirs --no-resave-data rtracklayer StartedAt: 2023-04-12 04:01:23 -0400 (Wed, 12 Apr 2023) EndedAt: 2023-04-12 04:02:43 -0400 (Wed, 12 Apr 2023) EllapsedTime: 80.9 seconds RetCode: 0 Status: OK PackageFile: rtracklayer_1.59.1.tar.gz PackageFileSize: 3.832 MiB