Package: ropls Version: 1.31.0 Command: /home/biocbuild/bbs-3.17-bioc/R/bin/R CMD INSTALL ropls StartedAt: 2023-04-12 01:59:54 -0400 (Wed, 12 Apr 2023) EndedAt: 2023-04-12 02:00:27 -0400 (Wed, 12 Apr 2023) EllapsedTime: 33.1 seconds RetCode: 0 Status: OK