Package: quantro Version: 1.33.1 Command: /home/biocbuild/bbs-3.17-bioc/R/bin/R CMD build --keep-empty-dirs --no-resave-data quantro StartedAt: 2023-04-12 03:50:28 -0400 (Wed, 12 Apr 2023) EndedAt: 2023-04-12 03:52:22 -0400 (Wed, 12 Apr 2023) EllapsedTime: 113.4 seconds RetCode: 0 Status: OK PackageFile: quantro_1.33.1.tar.gz PackageFileSize: 2.734 MiB