Package: philr Version: 1.25.3 Command: /home/biocbuild/bbs-3.17-bioc/R/bin/R CMD INSTALL philr StartedAt: 2023-04-12 01:39:35 -0400 (Wed, 12 Apr 2023) EndedAt: 2023-04-12 01:39:47 -0400 (Wed, 12 Apr 2023) EllapsedTime: 12.4 seconds RetCode: 0 Status: OK