Package: phenoTest Version: 1.47.0 Command: /home/biocbuild/bbs-3.17-bioc/R/bin/R CMD build --keep-empty-dirs --no-resave-data phenoTest StartedAt: 2023-04-12 03:42:48 -0400 (Wed, 12 Apr 2023) EndedAt: 2023-04-12 03:44:57 -0400 (Wed, 12 Apr 2023) EllapsedTime: 128.8 seconds RetCode: 0 Status: OK PackageFile: phenoTest_1.47.0.tar.gz PackageFileSize: 1.096 MiB