Package: pcaExplorer Version: 2.25.0 Command: /home/biocbuild/bbs-3.17-bioc/R/bin/R CMD build --keep-empty-dirs --no-resave-data pcaExplorer StartedAt: 2023-04-12 03:39:04 -0400 (Wed, 12 Apr 2023) EndedAt: 2023-04-12 03:42:56 -0400 (Wed, 12 Apr 2023) EllapsedTime: 232.0 seconds RetCode: 0 Status: OK PackageFile: pcaExplorer_2.25.0.tar.gz PackageFileSize: 21.72 MiB