Package: ompBAM Version: 1.3.0 Command: /home/biocbuild/bbs-3.17-bioc/R/bin/R CMD INSTALL ompBAM StartedAt: 2023-04-12 02:01:25 -0400 (Wed, 12 Apr 2023) EndedAt: 2023-04-12 02:01:28 -0400 (Wed, 12 Apr 2023) EllapsedTime: 3.4 seconds RetCode: 0 Status: OK