Package: omicsPrint Version: 1.19.0 Command: /home/biocbuild/bbs-3.17-bioc/R/bin/R CMD build --keep-empty-dirs --no-resave-data omicsPrint StartedAt: 2023-04-12 03:31:21 -0400 (Wed, 12 Apr 2023) EndedAt: 2023-04-12 03:32:50 -0400 (Wed, 12 Apr 2023) EllapsedTime: 88.5 seconds RetCode: 0 Status: OK PackageFile: omicsPrint_1.19.0.tar.gz PackageFileSize: 4.245 MiB