Package: omicade4 Version: 1.39.0 Command: /home/biocbuild/bbs-3.17-bioc/R/bin/R CMD INSTALL omicade4 StartedAt: 2023-04-12 01:37:21 -0400 (Wed, 12 Apr 2023) EndedAt: 2023-04-12 01:37:50 -0400 (Wed, 12 Apr 2023) EllapsedTime: 29.3 seconds RetCode: 0 Status: OK