Package: omicRexposome Version: 1.21.0 Command: /home/biocbuild/bbs-3.17-bioc/R/bin/R CMD build --keep-empty-dirs --no-resave-data omicRexposome StartedAt: 2023-04-12 03:31:14 -0400 (Wed, 12 Apr 2023) EndedAt: 2023-04-12 03:39:04 -0400 (Wed, 12 Apr 2023) EllapsedTime: 469.6 seconds RetCode: 1 Status: ERROR PackageFile: None PackageFileSize: NA