Package: ngsReports Version: 2.1.3 Command: /home/biocbuild/bbs-3.17-bioc/R/bin/R CMD build --keep-empty-dirs --no-resave-data ngsReports StartedAt: 2023-04-12 03:28:20 -0400 (Wed, 12 Apr 2023) EndedAt: 2023-04-12 03:29:28 -0400 (Wed, 12 Apr 2023) EllapsedTime: 67.2 seconds RetCode: 0 Status: OK PackageFile: ngsReports_2.1.3.tar.gz PackageFileSize: 2.616 MiB