Package: netDx Version: 1.11.2 Command: /home/biocbuild/bbs-3.17-bioc/R/bin/R CMD INSTALL netDx StartedAt: 2023-04-12 01:56:22 -0400 (Wed, 12 Apr 2023) EndedAt: 2023-04-12 01:57:01 -0400 (Wed, 12 Apr 2023) EllapsedTime: 38.5 seconds RetCode: 0 Status: OK