Package: monocle Version: 2.27.0 Command: /home/biocbuild/bbs-3.17-bioc/R/bin/R CMD INSTALL monocle StartedAt: 2023-04-12 01:37:15 -0400 (Wed, 12 Apr 2023) EndedAt: 2023-04-12 01:37:48 -0400 (Wed, 12 Apr 2023) EllapsedTime: 33.6 seconds RetCode: 0 Status: OK