Package: miRBaseConverter Version: 1.23.0 Command: /home/biocbuild/bbs-3.17-bioc/R/bin/R CMD INSTALL miRBaseConverter StartedAt: 2023-04-12 01:32:34 -0400 (Wed, 12 Apr 2023) EndedAt: 2023-04-12 01:33:04 -0400 (Wed, 12 Apr 2023) EllapsedTime: 29.9 seconds RetCode: 0 Status: OK