Package: miRBaseConverter Version: 1.23.0 Command: /home/biocbuild/bbs-3.17-bioc/R/bin/R CMD build --keep-empty-dirs --no-resave-data miRBaseConverter StartedAt: 2023-04-12 03:19:24 -0400 (Wed, 12 Apr 2023) EndedAt: 2023-04-12 03:19:45 -0400 (Wed, 12 Apr 2023) EllapsedTime: 21.1 seconds RetCode: 0 Status: OK PackageFile: miRBaseConverter_1.23.0.tar.gz PackageFileSize: 1.941 MiB