Package: methylMnM Version: 1.37.0 Command: /home/biocbuild/bbs-3.17-bioc/R/bin/R CMD build --keep-empty-dirs --no-resave-data methylMnM StartedAt: 2023-04-12 03:16:52 -0400 (Wed, 12 Apr 2023) EndedAt: 2023-04-12 03:17:52 -0400 (Wed, 12 Apr 2023) EllapsedTime: 60.2 seconds RetCode: 0 Status: OK PackageFile: methylMnM_1.37.0.tar.gz PackageFileSize: 8.406 MiB