Package: metaseqR2 Version: 1.11.1 Command: /home/biocbuild/bbs-3.17-bioc/R/bin/R CMD build --keep-empty-dirs --no-resave-data metaseqR2 StartedAt: 2023-04-12 03:15:32 -0400 (Wed, 12 Apr 2023) EndedAt: 2023-04-12 03:22:03 -0400 (Wed, 12 Apr 2023) EllapsedTime: 391.4 seconds RetCode: 0 Status: OK PackageFile: metaseqR2_1.11.1.tar.gz PackageFileSize: 2.624 MiB