Package: metaCCA Version: 1.27.0 Command: /home/biocbuild/bbs-3.17-bioc/R/bin/R CMD build --keep-empty-dirs --no-resave-data metaCCA StartedAt: 2023-04-12 03:14:56 -0400 (Wed, 12 Apr 2023) EndedAt: 2023-04-12 03:15:02 -0400 (Wed, 12 Apr 2023) EllapsedTime: 6.0 seconds RetCode: 0 Status: OK PackageFile: metaCCA_1.27.0.tar.gz PackageFileSize: 915.4 KiB