Package: maanova Version: 1.69.1 Command: /home/biocbuild/bbs-3.17-bioc/R/bin/R CMD build --keep-empty-dirs --no-resave-data maanova StartedAt: 2023-04-12 03:11:31 -0400 (Wed, 12 Apr 2023) EndedAt: 2023-04-12 03:11:32 -0400 (Wed, 12 Apr 2023) EllapsedTime: 1.0 seconds RetCode: 1 Status: ERROR PackageFile: None PackageFileSize: NA