Package: mCSEA Version: 1.19.0 Command: /home/biocbuild/bbs-3.17-bioc/R/bin/R CMD build --keep-empty-dirs --no-resave-data mCSEA StartedAt: 2023-04-12 03:13:44 -0400 (Wed, 12 Apr 2023) EndedAt: 2023-04-12 03:17:22 -0400 (Wed, 12 Apr 2023) EllapsedTime: 217.9 seconds RetCode: 0 Status: OK PackageFile: mCSEA_1.19.0.tar.gz PackageFileSize: 1.838 MiB