Package: lumi Version: 2.51.0 Command: /home/biocbuild/bbs-3.17-bioc/R/bin/R CMD build --keep-empty-dirs --no-resave-data lumi StartedAt: 2023-04-12 03:11:22 -0400 (Wed, 12 Apr 2023) EndedAt: 2023-04-12 03:11:24 -0400 (Wed, 12 Apr 2023) EllapsedTime: 2.0 seconds RetCode: 0 Status: OK PackageFile: lumi_2.51.0.tar.gz PackageFileSize: 8.033 MiB