Package: loci2path Version: 1.19.0 Command: /home/biocbuild/bbs-3.17-bioc/R/bin/R CMD INSTALL loci2path StartedAt: 2023-04-12 01:40:12 -0400 (Wed, 12 Apr 2023) EndedAt: 2023-04-12 01:40:30 -0400 (Wed, 12 Apr 2023) EllapsedTime: 17.6 seconds RetCode: 0 Status: OK