Package: loci2path Version: 1.19.0 Command: /home/biocbuild/bbs-3.17-bioc/R/bin/R CMD build --keep-empty-dirs --no-resave-data loci2path StartedAt: 2023-04-12 03:11:03 -0400 (Wed, 12 Apr 2023) EndedAt: 2023-04-12 03:11:24 -0400 (Wed, 12 Apr 2023) EllapsedTime: 21.2 seconds RetCode: 0 Status: OK PackageFile: loci2path_1.19.0.tar.gz PackageFileSize: 588.4 KiB