Package: ggbio Version: 1.47.0 Command: /home/biocbuild/bbs-3.17-bioc/R/bin/R CMD build --keep-empty-dirs --no-resave-data ggbio StartedAt: 2023-04-12 02:55:48 -0400 (Wed, 12 Apr 2023) EndedAt: 2023-04-12 03:00:08 -0400 (Wed, 12 Apr 2023) EllapsedTime: 260.9 seconds RetCode: 0 Status: OK PackageFile: ggbio_1.47.0.tar.gz PackageFileSize: 3.093 MiB