Package: flowViz Version: 1.63.0 Command: /home/biocbuild/bbs-3.17-bioc/R/bin/R CMD INSTALL flowViz StartedAt: 2023-04-12 01:42:08 -0400 (Wed, 12 Apr 2023) EndedAt: 2023-04-12 01:42:29 -0400 (Wed, 12 Apr 2023) EllapsedTime: 21.0 seconds RetCode: 0 Status: OK