Package: flowViz Version: 1.63.0 Command: /home/biocbuild/bbs-3.17-bioc/R/bin/R CMD build --keep-empty-dirs --no-resave-data flowViz StartedAt: 2023-04-12 02:51:18 -0400 (Wed, 12 Apr 2023) EndedAt: 2023-04-12 02:52:33 -0400 (Wed, 12 Apr 2023) EllapsedTime: 74.4 seconds RetCode: 0 Status: OK PackageFile: flowViz_1.63.0.tar.gz PackageFileSize: 937.4 KiB