Package: factDesign Version: 1.75.0 Command: /home/biocbuild/bbs-3.17-bioc/R/bin/R CMD INSTALL factDesign StartedAt: 2023-04-12 01:34:23 -0400 (Wed, 12 Apr 2023) EndedAt: 2023-04-12 01:34:45 -0400 (Wed, 12 Apr 2023) EllapsedTime: 22.1 seconds RetCode: 0 Status: OK