Package: doubletrouble Version: 0.99.2 Command: /home/biocbuild/bbs-3.17-bioc/R/bin/R CMD build --keep-empty-dirs --no-resave-data doubletrouble StartedAt: 2023-04-12 02:43:02 -0400 (Wed, 12 Apr 2023) EndedAt: 2023-04-12 02:44:12 -0400 (Wed, 12 Apr 2023) EllapsedTime: 70.3 seconds RetCode: 0 Status: OK PackageFile: doubletrouble_0.99.2.tar.gz PackageFileSize: 4.407 MiB