Package: deconvR Version: 1.5.2 Command: /home/biocbuild/bbs-3.17-bioc/R/bin/R CMD INSTALL deconvR StartedAt: 2023-04-12 02:02:42 -0400 (Wed, 12 Apr 2023) EndedAt: 2023-04-12 02:03:58 -0400 (Wed, 12 Apr 2023) EllapsedTime: 76.7 seconds RetCode: 0 Status: OK