Package: ddCt Version: 1.55.0 Command: /home/biocbuild/bbs-3.17-bioc/R/bin/R CMD build --keep-empty-dirs --no-resave-data ddCt StartedAt: 2023-04-12 02:37:21 -0400 (Wed, 12 Apr 2023) EndedAt: 2023-04-12 02:37:34 -0400 (Wed, 12 Apr 2023) EllapsedTime: 13.0 seconds RetCode: 0 Status: OK PackageFile: ddCt_1.55.0.tar.gz PackageFileSize: 758.1 KiB