Package: covRNA Version: 1.25.0 Command: /home/biocbuild/bbs-3.17-bioc/R/bin/R CMD build --keep-empty-dirs --no-resave-data covRNA StartedAt: 2023-04-12 02:34:17 -0400 (Wed, 12 Apr 2023) EndedAt: 2023-04-12 02:35:06 -0400 (Wed, 12 Apr 2023) EllapsedTime: 49.2 seconds RetCode: 0 Status: OK PackageFile: covRNA_1.25.0.tar.gz PackageFileSize: 544.6 KiB