Package: corral Version: 1.9.1 Command: /home/biocbuild/bbs-3.17-bioc/R/bin/R CMD build --keep-empty-dirs --no-resave-data corral StartedAt: 2023-04-12 02:33:45 -0400 (Wed, 12 Apr 2023) EndedAt: 2023-04-12 02:47:29 -0400 (Wed, 12 Apr 2023) EllapsedTime: 824.0 seconds RetCode: 0 Status: OK PackageFile: corral_1.9.1.tar.gz PackageFileSize: 1.936 MiB