Package: conumee Version: 1.33.0 Command: /home/biocbuild/bbs-3.17-bioc/R/bin/R CMD INSTALL conumee StartedAt: 2023-04-12 02:03:24 -0400 (Wed, 12 Apr 2023) EndedAt: 2023-04-12 02:08:08 -0400 (Wed, 12 Apr 2023) EllapsedTime: 284.1 seconds RetCode: 0 Status: OK