Package: consensusOV Version: 1.21.0 Command: /home/biocbuild/bbs-3.17-bioc/R/bin/R CMD INSTALL consensusOV StartedAt: 2023-04-12 02:04:44 -0400 (Wed, 12 Apr 2023) EndedAt: 2023-04-12 02:05:47 -0400 (Wed, 12 Apr 2023) EllapsedTime: 62.9 seconds RetCode: 0 Status: OK