Package: celaref Version: 1.17.0 Command: /home/biocbuild/bbs-3.17-bioc/R/bin/R CMD build --keep-empty-dirs --no-resave-data celaref StartedAt: 2023-04-12 02:24:23 -0400 (Wed, 12 Apr 2023) EndedAt: 2023-04-12 02:27:46 -0400 (Wed, 12 Apr 2023) EllapsedTime: 203.8 seconds RetCode: 0 Status: OK PackageFile: celaref_1.17.0.tar.gz PackageFileSize: 2.585 MiB