Package: bugsigdbr Version: 1.5.8 Command: /home/biocbuild/bbs-3.17-bioc/R/bin/R CMD INSTALL bugsigdbr StartedAt: 2023-04-12 01:38:55 -0400 (Wed, 12 Apr 2023) EndedAt: 2023-04-12 01:39:02 -0400 (Wed, 12 Apr 2023) EllapsedTime: 7.1 seconds RetCode: 0 Status: OK