Package: breakpointR Version: 1.17.0 Command: /home/biocbuild/bbs-3.17-bioc/R/bin/R CMD build --keep-empty-dirs --no-resave-data breakpointR StartedAt: 2023-04-12 02:21:09 -0400 (Wed, 12 Apr 2023) EndedAt: 2023-04-12 02:22:17 -0400 (Wed, 12 Apr 2023) EllapsedTime: 68.2 seconds RetCode: 0 Status: OK PackageFile: breakpointR_1.17.0.tar.gz PackageFileSize: 810.6 KiB