Package: biscuiteer Version: 1.13.1 Command: /home/biocbuild/bbs-3.17-bioc/R/bin/R CMD build --keep-empty-dirs --no-resave-data biscuiteer StartedAt: 2023-04-12 02:19:45 -0400 (Wed, 12 Apr 2023) EndedAt: 2023-04-12 02:21:28 -0400 (Wed, 12 Apr 2023) EllapsedTime: 103.3 seconds RetCode: 0 Status: OK PackageFile: biscuiteer_1.13.1.tar.gz PackageFileSize: 4.747 MiB