Package: biotmle Version: 1.23.0 Command: /home/biocbuild/bbs-3.17-bioc/R/bin/R CMD build --keep-empty-dirs --no-resave-data biotmle StartedAt: 2023-04-12 02:19:28 -0400 (Wed, 12 Apr 2023) EndedAt: 2023-04-12 02:21:00 -0400 (Wed, 12 Apr 2023) EllapsedTime: 92.3 seconds RetCode: 0 Status: OK PackageFile: biotmle_1.23.0.tar.gz PackageFileSize: 313.1 KiB