Package: awst Version: 1.7.0 Command: /home/biocbuild/bbs-3.17-bioc/R/bin/R CMD INSTALL awst StartedAt: 2023-04-12 01:36:49 -0400 (Wed, 12 Apr 2023) EndedAt: 2023-04-12 01:37:14 -0400 (Wed, 12 Apr 2023) EllapsedTime: 25.7 seconds RetCode: 0 Status: OK