Package: YAPSA Version: 1.25.0 Command: /home/biocbuild/bbs-3.17-bioc/R/bin/R CMD INSTALL YAPSA StartedAt: 2023-04-12 01:52:35 -0400 (Wed, 12 Apr 2023) EndedAt: 2023-04-12 01:53:46 -0400 (Wed, 12 Apr 2023) EllapsedTime: 71.6 seconds RetCode: 0 Status: OK