Package: XINA Version: 1.17.0 Command: /home/biocbuild/bbs-3.17-bioc/R/bin/R CMD build --keep-empty-dirs --no-resave-data XINA StartedAt: 2023-04-12 04:29:39 -0400 (Wed, 12 Apr 2023) EndedAt: 2023-04-12 04:30:06 -0400 (Wed, 12 Apr 2023) EllapsedTime: 27.1 seconds RetCode: 0 Status: OK PackageFile: XINA_1.17.0.tar.gz PackageFileSize: 2.459 MiB