Package: VplotR Version: 1.9.0 Command: /home/biocbuild/bbs-3.17-bioc/R/bin/R CMD build --keep-empty-dirs --no-resave-data VplotR StartedAt: 2023-04-12 04:28:10 -0400 (Wed, 12 Apr 2023) EndedAt: 2023-04-12 04:30:03 -0400 (Wed, 12 Apr 2023) EllapsedTime: 112.4 seconds RetCode: 0 Status: OK PackageFile: VplotR_1.9.0.tar.gz PackageFileSize: 5.094 MiB